BEGIN:VCALENDAR
PRODID:-//github.com/rianjs/ical.net//NONSGML ical.net 4.0//EN
VERSION:2.0
BEGIN:VEVENT
DESCRIPTION:Felles heldagsprøve i matematikk
DTEND:20171201T140000
DTSTAMP:20260423T161236Z
DTSTART:20171201T083000
LOCATION:Hus D
SEQUENCE:0
SUMMARY:Felles heldagsprøve i matematikk
UID:5a3f1cf3-bb29-4c3b-8bcd-de132694606d
END:VEVENT
END:VCALENDAR
